BEGIN:VCALENDAR
VERSION:2.0
PRODID:spatie/icalendar-generator
DESCRIPTION:Events from 
X-WR-CALDESC:Events from 
REFRESH-INTERVAL;VALUE=DURATION:PT1440M
X-PUBLISHED-TTL:PT1440M
BEGIN:VTIMEZONE
TZID:Europe/London
BEGIN:DAYLIGHT
DTSTART:20240331T010000Z
TZOFFSETFROM:+0000
TZOFFSETTO:+0100
END:DAYLIGHT
BEGIN:STANDARD
DTSTART:20241027T020000Z
TZOFFSETFROM:+0100
TZOFFSETTO:+0000
END:STANDARD
BEGIN:DAYLIGHT
DTSTART:20250330T010000Z
TZOFFSETFROM:+0000
TZOFFSETTO:+0100
END:DAYLIGHT
END:VTIMEZONE
BEGIN:VTIMEZONE
TZID:UTC
BEGIN:STANDARD
DTSTART:20250724T182641Z
TZOFFSETFROM:+0000
TZOFFSETTO:+0000
END:STANDARD
END:VTIMEZONE
BEGIN:VEVENT
UID:12-9
DTSTAMP:20260420T182641Z
SUMMARY:The John Bolton - Part 1
LOCATION:Hutton Moor Leisure Centre\, Weston-super-Mare Hutton Moor Road  W
 eston-super-Mare North Somerset BS22 8LY
ORGANIZER;CN=admin:MAILTO:mike.coles1956@gmail.com
DTSTART;TZID=Europe/London:20241116T170000
DTEND;TZID=Europe/London:20241116T203000
X-ALT-DESC;FMTTYPE=TEXT/HTML:In February 2024\, we had the sad news that Jo
 hn Bolton\, a member of Somerset ASA’s Management Committee\, had passed
  away suddenly. John\, like so many of us\, came into the sport to support
  his daughter\, and he became treasurer of Dorset County. He also helped s
 et up the website for the South West Region.&amp;hellip\;
CATEGORIES:General
URL;VALUE=URI:https://somersetasa.co.uk/mc-events/the-john-bolton-part-1/
METHOD:PUBLISH
END:VEVENT
END:VCALENDAR