BEGIN:VCALENDAR
VERSION:2.0
PRODID:spatie/icalendar-generator
DESCRIPTION:Events from 
X-WR-CALDESC:Events from 
REFRESH-INTERVAL;VALUE=DURATION:PT1440M
X-PUBLISHED-TTL:PT1440M
BEGIN:VTIMEZONE
TZID:Europe/London
BEGIN:DAYLIGHT
DTSTART:20240331T010000Z
TZOFFSETFROM:+0000
TZOFFSETTO:+0100
END:DAYLIGHT
BEGIN:STANDARD
DTSTART:20241027T020000Z
TZOFFSETFROM:+0100
TZOFFSETTO:+0000
END:STANDARD
BEGIN:DAYLIGHT
DTSTART:20250330T010000Z
TZOFFSETFROM:+0000
TZOFFSETTO:+0100
END:DAYLIGHT
END:VTIMEZONE
BEGIN:VTIMEZONE
TZID:UTC
BEGIN:STANDARD
DTSTART:20250724T195616Z
TZOFFSETFROM:+0000
TZOFFSETTO:+0000
END:STANDARD
END:VTIMEZONE
BEGIN:VEVENT
UID:13-10
DTSTAMP:20260420T195616Z
SUMMARY:The John Bolton - Part 2
LOCATION:Millfield School Main Pool Keen\\'s Elm Lane  Street Somerset BA16
  0ST
ORGANIZER;CN=admin:MAILTO:mike.coles1956@gmail.com
DTSTART;TZID=Europe/London:20241123T170000
DTEND;TZID=Europe/London:20241123T203000
X-ALT-DESC;FMTTYPE=TEXT/HTML:In February 2024\, we had the sad news that Jo
 hn Bolton\, a member of Somerset ASA’s Management Committee\, had passed
  away suddenly. John\, like so many of us\, came into the sport to support
  his daughter\, and he became treasurer of Dorset County. He also helped s
 et up the website for the South West Region.&amp;hellip\;
CATEGORIES:General
URL;VALUE=URI:https://somersetasa.co.uk/mc-events/the-john-bolton-part-2/
METHOD:PUBLISH
END:VEVENT
END:VCALENDAR