BEGIN:VCALENDAR
VERSION:2.0
PRODID:spatie/icalendar-generator
DESCRIPTION:Events from 
X-WR-CALDESC:Events from 
REFRESH-INTERVAL;VALUE=DURATION:PT1440M
X-PUBLISHED-TTL:PT1440M
BEGIN:VTIMEZONE
TZID:Europe/London
BEGIN:DAYLIGHT
DTSTART:20240331T010000Z
TZOFFSETFROM:+0000
TZOFFSETTO:+0100
END:DAYLIGHT
BEGIN:STANDARD
DTSTART:20241027T020000Z
TZOFFSETFROM:+0100
TZOFFSETTO:+0000
END:STANDARD
END:VTIMEZONE
BEGIN:VTIMEZONE
TZID:UTC
BEGIN:STANDARD
DTSTART:20250724T185010Z
TZOFFSETFROM:+0000
TZOFFSETTO:+0000
END:STANDARD
END:VTIMEZONE
BEGIN:VEVENT
UID:28-23
DTSTAMP:20260420T185010Z
SUMMARY:Inspire to Try...
LOCATION:Dragonfly Leisure Gullock Tyning  Midsomer Norton Somerset BA3 2SY
ORGANIZER;CN=admin:MAILTO:mike.coles1956@gmail.com
DTSTART;TZID=Europe/London:20240925T180000
DTEND;TZID=Europe/London:20240925T183000
X-ALT-DESC;FMTTYPE=TEXT/HTML:Inspire to Try Swimming! Team Bath AS\, a Perf
 ormance Swimming Club\, is running a FREE taster session for swimmers aged
  7+ who are interested in starting a competitive swimming journey!  When:
  Wednesday\, 25 September  Time: 6 – 6.30pm  Where: Dragonfly Leisure 
 - Midsomer Norton\, Gullock Tyning\, Midsomer Norton\, Radstock BA3 2SY El
 igibility: Swimmers aged 7+ who&amp;hellip\;
CATEGORIES:General
URL;VALUE=URI:https://somersetasa.co.uk/mc-events/inspire-to-try-2/
METHOD:PUBLISH
END:VEVENT
END:VCALENDAR