BEGIN:VCALENDAR
VERSION:2.0
PRODID:spatie/icalendar-generator
DESCRIPTION:Events from 
X-WR-CALDESC:Events from 
REFRESH-INTERVAL;VALUE=DURATION:PT1440M
X-PUBLISHED-TTL:PT1440M
BEGIN:VTIMEZONE
TZID:Europe/London
BEGIN:DAYLIGHT
DTSTART:20240331T010000Z
TZOFFSETFROM:+0000
TZOFFSETTO:+0100
END:DAYLIGHT
BEGIN:STANDARD
DTSTART:20241027T020000Z
TZOFFSETFROM:+0100
TZOFFSETTO:+0000
END:STANDARD
BEGIN:DAYLIGHT
DTSTART:20250330T010000Z
TZOFFSETFROM:+0000
TZOFFSETTO:+0100
END:DAYLIGHT
END:VTIMEZONE
BEGIN:VTIMEZONE
TZID:UTC
BEGIN:STANDARD
DTSTART:20250724T185241Z
TZOFFSETFROM:+0000
TZOFFSETTO:+0000
END:STANDARD
END:VTIMEZONE
BEGIN:VEVENT
UID:30-6
DTSTAMP:20260420T185241Z
SUMMARY:Somerset ASA Meeting of Clubs
LOCATION:Coach House Inn Manor Gardens Locking Weston-super-Mare Somerset B
 S24 8DG
ORGANIZER;CN=admin:MAILTO:mike.coles1956@gmail.com
DTSTART;TZID=Europe/London:20241207T113000
DTEND;TZID=Europe/London:20241207T140000
X-ALT-DESC;FMTTYPE=TEXT/HTML:The Somerset ASA Meeting of Clubs gives the as
 sociation member clubs the opportunity to vote on development of the count
 y\, and listen to the projects the management committee propose. It also g
 ives the association membership a chance to comment on the running of the 
 county association on their behalf.
CATEGORIES:General
URL;VALUE=URI:https://somersetasa.co.uk/mc-events/somerset-asa-meeting-of-c
 lubs/
METHOD:PUBLISH
END:VEVENT
END:VCALENDAR