BEGIN:VCALENDAR
VERSION:2.0
PRODID:spatie/icalendar-generator
DESCRIPTION:Events from 
X-WR-CALDESC:Events from 
REFRESH-INTERVAL;VALUE=DURATION:PT1440M
X-PUBLISHED-TTL:PT1440M
BEGIN:VTIMEZONE
TZID:Europe/London
BEGIN:STANDARD
DTSTART:20241027T020000Z
TZOFFSETFROM:+0100
TZOFFSETTO:+0000
END:STANDARD
BEGIN:DAYLIGHT
DTSTART:20250330T010000Z
TZOFFSETFROM:+0000
TZOFFSETTO:+0100
END:DAYLIGHT
END:VTIMEZONE
BEGIN:VTIMEZONE
TZID:UTC
BEGIN:STANDARD
DTSTART:20250724T185046Z
TZOFFSETFROM:+0000
TZOFFSETTO:+0000
END:STANDARD
END:VTIMEZONE
BEGIN:VEVENT
UID:32-26
DTSTAMP:20260420T185046Z
SUMMARY:December Swim Camp
LOCATION:Trinity Sports &amp;amp\; Leisure Chilton Street  Bridgwater   TA6 3JA
ORGANIZER;CN=admin:MAILTO:mike.coles1956@gmail.com
DTSTART;TZID=Europe/London:20241227T083000
DTEND;TZID=Europe/London:20241227T093000
X-ALT-DESC;FMTTYPE=TEXT/HTML:
CATEGORIES:General
URL;VALUE=URI:https://somersetasa.co.uk/mc-events/december-swim-camp/
METHOD:PUBLISH
END:VEVENT
END:VCALENDAR