BEGIN:VCALENDAR
VERSION:2.0
PRODID:spatie/icalendar-generator
DESCRIPTION:Events from 
X-WR-CALDESC:Events from 
REFRESH-INTERVAL;VALUE=DURATION:PT1440M
X-PUBLISHED-TTL:PT1440M
BEGIN:VTIMEZONE
TZID:Europe/London
BEGIN:STANDARD
DTSTART:20251026T020000Z
TZOFFSETFROM:+0100
TZOFFSETTO:+0000
END:STANDARD
BEGIN:DAYLIGHT
DTSTART:20260329T010000Z
TZOFFSETFROM:+0000
TZOFFSETTO:+0100
END:DAYLIGHT
BEGIN:STANDARD
DTSTART:20261025T020000Z
TZOFFSETFROM:+0100
TZOFFSETTO:+0000
END:STANDARD
END:VTIMEZONE
BEGIN:VTIMEZONE
TZID:UTC
BEGIN:STANDARD
DTSTART:20250724T142135Z
TZOFFSETFROM:+0000
TZOFFSETTO:+0000
END:STANDARD
END:VTIMEZONE
BEGIN:VEVENT
UID:53-44
DTSTAMP:20260420T142135Z
SUMMARY:Team Bath AS &amp;amp\; Millfield Level 4 Meet
LOCATION:Millfield Prep School Swimming Pool Edgarley Hall  Glastonbury  BA
 6 8LD
ORGANIZER;CN=admin:MAILTO:mike.coles1956@gmail.com
DTSTART;TZID=Europe/London:20260516T000000
DTEND;TZID=Europe/London:20260516T010000
X-ALT-DESC;FMTTYPE=TEXT/HTML:
CATEGORIES:Meets
URL;VALUE=URI:https://somersetasa.co.uk/mc-events/team-bath-as-millfield-le
 vel-4-meet/
METHOD:PUBLISH
END:VEVENT
END:VCALENDAR