BEGIN:VCALENDAR
VERSION:2.0
PRODID:spatie/icalendar-generator
DESCRIPTION:Events from 
X-WR-CALDESC:Events from 
REFRESH-INTERVAL;VALUE=DURATION:PT1440M
X-PUBLISHED-TTL:PT1440M
BEGIN:VTIMEZONE
TZID:Europe/London
BEGIN:DAYLIGHT
DTSTART:20240331T010000Z
TZOFFSETFROM:+0000
TZOFFSETTO:+0100
END:DAYLIGHT
BEGIN:STANDARD
DTSTART:20241027T020000Z
TZOFFSETFROM:+0100
TZOFFSETTO:+0000
END:STANDARD
BEGIN:DAYLIGHT
DTSTART:20250330T010000Z
TZOFFSETFROM:+0000
TZOFFSETTO:+0100
END:DAYLIGHT
END:VTIMEZONE
BEGIN:VTIMEZONE
TZID:UTC
BEGIN:STANDARD
DTSTART:20250724T194937Z
TZOFFSETFROM:+0000
TZOFFSETTO:+0000
END:STANDARD
END:VTIMEZONE
BEGIN:VEVENT
UID:14-11
DTSTAMP:20260420T194937Z
SUMMARY:Somerset ASA County Relay Team &amp;amp\; 100-metre Individual Medley O
 ne-Day event
LOCATION:Millfield School Main Pool Keen\\'s Elm Lane  Street Somerset BA16
  0ST
ORGANIZER;CN=admin:MAILTO:mike.coles1956@gmail.com
DTSTART;TZID=Europe/London;VALUE=DATE:20241020
DTEND;TZID=Europe/London;VALUE=DATE:20241021
X-ALT-DESC;FMTTYPE=TEXT/HTML:Level 2 Licensed Meet (Licence No. 2SW241426 A
 ge as of: December 31st\, 2024. Minimum Age: 10-years-of-age in year of 
 competition (via 10/11 qualifying times). Closing date for entries: Monda
 y\, October 7th\, 2024 at 17:00 Hours.
CATEGORIES:General
URL;VALUE=URI:https://somersetasa.co.uk/mc-events/somerset-asa-county-relay
 -team-100-metre-individual-medley-one-day-event/
METHOD:PUBLISH
END:VEVENT
END:VCALENDAR