BEGIN:VCALENDAR
VERSION:2.0
PRODID:spatie/icalendar-generator
DESCRIPTION:Events from 
X-WR-CALDESC:Events from 
REFRESH-INTERVAL;VALUE=DURATION:PT1440M
X-PUBLISHED-TTL:PT1440M
BEGIN:VTIMEZONE
TZID:Europe/London
BEGIN:STANDARD
DTSTART:20251026T020000Z
TZOFFSETFROM:+0100
TZOFFSETTO:+0000
END:STANDARD
BEGIN:DAYLIGHT
DTSTART:20260329T010000Z
TZOFFSETFROM:+0000
TZOFFSETTO:+0100
END:DAYLIGHT
BEGIN:STANDARD
DTSTART:20261025T020000Z
TZOFFSETFROM:+0100
TZOFFSETTO:+0000
END:STANDARD
END:VTIMEZONE
BEGIN:VTIMEZONE
TZID:UTC
BEGIN:STANDARD
DTSTART:20250724T171618Z
TZOFFSETFROM:+0000
TZOFFSETTO:+0000
END:STANDARD
END:VTIMEZONE
BEGIN:VEVENT
UID:42-35
DTSTAMP:20260420T171618Z
SUMMARY:Somerset ASA County Fast 5 Competition
LOCATION:
ORGANIZER;CN=admin:MAILTO:mike.coles1956@gmail.com
DTSTART;TZID=Europe/London:20260627T000000
DTEND;TZID=Europe/London:20260627T010000
X-ALT-DESC;FMTTYPE=TEXT/HTML:[caption id=\"attachment_2293\" align=\"alignn
 one\" width=\"575\"] New Wyvern 2024[/caption]
CATEGORIES:General
URL;VALUE=URI:https://somersetasa.co.uk/mc-events/somerset-asa-county-fast-
 5-competition/
METHOD:PUBLISH
END:VEVENT
END:VCALENDAR