BEGIN:VCALENDAR
VERSION:2.0
PRODID:spatie/icalendar-generator
DESCRIPTION:Events from 
X-WR-CALDESC:Events from 
REFRESH-INTERVAL;VALUE=DURATION:PT1440M
X-PUBLISHED-TTL:PT1440M
BEGIN:VTIMEZONE
TZID:Europe/London
BEGIN:STANDARD
DTSTART:20241027T020000Z
TZOFFSETFROM:+0100
TZOFFSETTO:+0000
END:STANDARD
BEGIN:DAYLIGHT
DTSTART:20250330T010000Z
TZOFFSETFROM:+0000
TZOFFSETTO:+0100
END:DAYLIGHT
BEGIN:STANDARD
DTSTART:20251026T020000Z
TZOFFSETFROM:+0100
TZOFFSETTO:+0000
END:STANDARD
END:VTIMEZONE
BEGIN:VTIMEZONE
TZID:UTC
BEGIN:STANDARD
DTSTART:20250724T125508Z
TZOFFSETFROM:+0000
TZOFFSETTO:+0000
END:STANDARD
END:VTIMEZONE
BEGIN:VEVENT
UID:45-38
DTSTAMP:20260420T125508Z
SUMMARY:Somerset ASA Annual General Meeting
LOCATION:Sports Training Village Lecture Room\, University of Bath Claverto
 n Down Road  Bath Somerset BA2 7AY
ORGANIZER;CN=admin:MAILTO:mike.coles1956@gmail.com
DTSTART;TZID=Europe/London:20250524T100000
DTEND;TZID=Europe/London:20250524T110000
X-ALT-DESC;FMTTYPE=TEXT/HTML:&amp;nbsp\; Date: Saturday 24th May 2025\, 10am.
  Venue: Lecture Room\, Sports Training Village\, University of Bath\, Cla
 verton Down\, Bath BA2 7AY. A campus map is attached for your convenienc
 e. Also attached is the Sports Training Village map- but this may add conf
 usion as we can greet people at a meeting point by the stairs above the ma
 in reception from 10am&amp;hellip\;
CATEGORIES:General
URL;VALUE=URI:https://somersetasa.co.uk/mc-events/somerset-asa-annual-gener
 al-meeting/
METHOD:PUBLISH
END:VEVENT
END:VCALENDAR