BEGIN:VCALENDAR
VERSION:2.0
PRODID:spatie/icalendar-generator
DESCRIPTION:Events from 
X-WR-CALDESC:Events from 
REFRESH-INTERVAL;VALUE=DURATION:PT1440M
X-PUBLISHED-TTL:PT1440M
BEGIN:VTIMEZONE
TZID:Europe/London
BEGIN:STANDARD
DTSTART:20241027T020000Z
TZOFFSETFROM:+0100
TZOFFSETTO:+0000
END:STANDARD
BEGIN:DAYLIGHT
DTSTART:20250330T010000Z
TZOFFSETFROM:+0000
TZOFFSETTO:+0100
END:DAYLIGHT
BEGIN:STANDARD
DTSTART:20251026T020000Z
TZOFFSETFROM:+0100
TZOFFSETTO:+0000
END:STANDARD
END:VTIMEZONE
BEGIN:VTIMEZONE
TZID:UTC
BEGIN:STANDARD
DTSTART:20250724T142958Z
TZOFFSETFROM:+0000
TZOFFSETTO:+0000
END:STANDARD
END:VTIMEZONE
BEGIN:VEVENT
UID:46-39
DTSTAMP:20260420T142958Z
SUMMARY:End of Season Level 3 LC Summer Grand Prix With Heats and Finals
LOCATION:
ORGANIZER;CN=admin:MAILTO:mike.coles1956@gmail.com
DTSTART;TZID=Europe/London;VALUE=DATE:20250712
DTEND;TZID=Europe/London;VALUE=DATE:20250714
X-ALT-DESC;FMTTYPE=TEXT/HTML:TBAS_Millfield_End of Season_L3_meet_pack-cond
 itions_July 2025 final
CATEGORIES:General
URL;VALUE=URI:https://somersetasa.co.uk/mc-events/end-of-season-level-3-lc-
 summer-grand-prix-with-heats-and-finals/
METHOD:PUBLISH
END:VEVENT
END:VCALENDAR