BEGIN:VCALENDAR
VERSION:2.0
PRODID:spatie/icalendar-generator
DESCRIPTION:Events from 
X-WR-CALDESC:Events from 
REFRESH-INTERVAL;VALUE=DURATION:PT1440M
X-PUBLISHED-TTL:PT1440M
BEGIN:VTIMEZONE
TZID:Europe/London
BEGIN:STANDARD
DTSTART:20251026T020000Z
TZOFFSETFROM:+0100
TZOFFSETTO:+0000
END:STANDARD
BEGIN:DAYLIGHT
DTSTART:20260329T010000Z
TZOFFSETFROM:+0000
TZOFFSETTO:+0100
END:DAYLIGHT
END:VTIMEZONE
BEGIN:VTIMEZONE
TZID:UTC
BEGIN:STANDARD
DTSTART:20250724T142000Z
TZOFFSETFROM:+0000
TZOFFSETTO:+0000
END:STANDARD
END:VTIMEZONE
BEGIN:VEVENT
UID:50-41
DTSTAMP:20260420T142000Z
SUMMARY:Team Bath AS &amp;amp\; Millfield Level 1 Long Course (Long distance on
  Friday)
LOCATION:Millfield School Main Pool Keen\\'s Elm Lane  Street Somerset BA16
  0ST
ORGANIZER;CN=admin:MAILTO:mike.coles1956@gmail.com
DTSTART;TZID=Europe/London:20260313T000000
DTEND;TZID=Europe/London:20260315T010000
X-ALT-DESC;FMTTYPE=TEXT/HTML:
CATEGORIES:Meets
URL;VALUE=URI:https://somersetasa.co.uk/mc-events/team-bath-as-millfield-le
 vel-1-long-course-long-distance-on-friday/
METHOD:PUBLISH
END:VEVENT
END:VCALENDAR