BEGIN:VCALENDAR
VERSION:2.0
PRODID:spatie/icalendar-generator
DESCRIPTION:Events from 
X-WR-CALDESC:Events from 
REFRESH-INTERVAL;VALUE=DURATION:PT1440M
X-PUBLISHED-TTL:PT1440M
BEGIN:VTIMEZONE
TZID:Europe/London
BEGIN:DAYLIGHT
DTSTART:20250330T010000Z
TZOFFSETFROM:+0000
TZOFFSETTO:+0100
END:DAYLIGHT
BEGIN:STANDARD
DTSTART:20251026T020000Z
TZOFFSETFROM:+0100
TZOFFSETTO:+0000
END:STANDARD
END:VTIMEZONE
BEGIN:VTIMEZONE
TZID:UTC
BEGIN:STANDARD
DTSTART:20250724T153359Z
TZOFFSETFROM:+0000
TZOFFSETTO:+0000
END:STANDARD
END:VTIMEZONE
BEGIN:VEVENT
UID:55-45
DTSTAMP:20260420T153359Z
SUMMARY:Fast &amp;amp\; Female South West Clinic in Bath
LOCATION:Monkton Combe Prep School Combe Down  Bath Somerset BA2 7ET
ORGANIZER;CN=admin:MAILTO:mike.coles1956@gmail.com
DTSTART;TZID=Europe/London;VALUE=DATE:20250822
DTEND;TZID=Europe/London;VALUE=DATE:20250823
X-ALT-DESC;FMTTYPE=TEXT/HTML:<p>Dear Club\,</p>\n<p>As a tall girl body con
 fidence and self esteem are always something I wrestled with - despite my 
 tall stature and strong arms taking me to two Olympic games where I have r
 epresented Great Britain swimming against the best in the world!</p>\n<p>T
 his is why I formed FAST and Female\, part of my Freya Anderson Swim Train
 ing initiative that I founded in 2023: dedicated to improving confidence i
 n young females in and out of the pool to keep women and girls in sport lo
 nger.</p>\n<p>I am delighted to invite your club swimmers to our FAST and 
 Female camp to be held at Monkton Combe Prep School\, Bath\, BA2 7ET on th
 e 22nd of August\, 2025.</p>\n<p>More details can be found on our website:
  https://faswimtraining.co.uk/fast-and-female</p>\n<p>Highlights of the da
 y include</p>\n<p>a coach-led session with myself in the pool for demonstr
 ation</p>\n<p>a taste of pilates to understand how it supports flexibility
 </p>\n<p>educational talk on female health\, focussing on the menstrual cy
 cle and how to fuel around it\, led by Dr Emily Jevons\, physiologist and 
 nutritionist.</p>\n<p>I’d love to support your female swimmers to build 
 their confidence to inspire enjoyment and longevity in the sport.</p>\n<p>
 We have fantastic offers for Group/Club bookings\, which are especially go
 od value during our early Bird offer which ends on the 10th April.</p>\n<p>For more details on what we can offer please email info@faswimtraining.co
 .uk</p>\n<p>I hope to see you soon!</p>\n<p>Best wishes</p>\n<p>Freya Ande
 rson MBE</p>\n<p>FAST founder</p>\n
CATEGORIES:General
URL;VALUE=URI:https://somersetasa.co.uk/mc-events/fast-female-south-west-cl
 inic-in-bath/
METHOD:PUBLISH
END:VEVENT
END:VCALENDAR