BEGIN:VCALENDAR
VERSION:2.0
PRODID:spatie/icalendar-generator
DESCRIPTION:Events from 
X-WR-CALDESC:Events from 
REFRESH-INTERVAL;VALUE=DURATION:PT1440M
X-PUBLISHED-TTL:PT1440M
BEGIN:VTIMEZONE
TZID:Europe/London
BEGIN:STANDARD
DTSTART:20241027T020000Z
TZOFFSETFROM:+0100
TZOFFSETTO:+0000
END:STANDARD
BEGIN:DAYLIGHT
DTSTART:20250330T010000Z
TZOFFSETFROM:+0000
TZOFFSETTO:+0100
END:DAYLIGHT
BEGIN:STANDARD
DTSTART:20251026T020000Z
TZOFFSETFROM:+0100
TZOFFSETTO:+0000
END:STANDARD
END:VTIMEZONE
BEGIN:VTIMEZONE
TZID:UTC
BEGIN:STANDARD
DTSTART:20250724T130558Z
TZOFFSETFROM:+0000
TZOFFSETTO:+0000
END:STANDARD
END:VTIMEZONE
BEGIN:VEVENT
UID:56-46
DTSTAMP:20260420T130558Z
SUMMARY:Clevedon ASC fun and friendly end-of-season Level 3 Summerset Sizzl
 er Open Meet
LOCATION:Hutton Moor Leisure Centre\, Weston-super-Mare Hutton Moor Road  W
 eston-super-Mare North Somerset BS22 8LY
ORGANIZER;CN=admin:MAILTO:mike.coles1956@gmail.com
DTSTART;TZID=Europe/London;VALUE=DATE:20250705
DTEND;TZID=Europe/London;VALUE=DATE:20250707
X-ALT-DESC;FMTTYPE=TEXT/HTML:
CATEGORIES:General
URL;VALUE=URI:https://somersetasa.co.uk/mc-events/clevedon-asc-fun-and-frie
 ndly-end-of-season-level-3-summerset-sizzler-open-meet/
METHOD:PUBLISH
END:VEVENT
END:VCALENDAR