BEGIN:VCALENDAR
VERSION:2.0
PRODID:spatie/icalendar-generator
DESCRIPTION:Events from 
X-WR-CALDESC:Events from 
REFRESH-INTERVAL;VALUE=DURATION:PT1440M
X-PUBLISHED-TTL:PT1440M
BEGIN:VTIMEZONE
TZID:Europe/London
BEGIN:DAYLIGHT
DTSTART:20250330T010000Z
TZOFFSETFROM:+0000
TZOFFSETTO:+0100
END:DAYLIGHT
BEGIN:STANDARD
DTSTART:20251026T020000Z
TZOFFSETFROM:+0100
TZOFFSETTO:+0000
END:STANDARD
BEGIN:DAYLIGHT
DTSTART:20260329T010000Z
TZOFFSETFROM:+0000
TZOFFSETTO:+0100
END:DAYLIGHT
END:VTIMEZONE
BEGIN:VTIMEZONE
TZID:UTC
BEGIN:STANDARD
DTSTART:20250724T171936Z
TZOFFSETFROM:+0000
TZOFFSETTO:+0000
END:STANDARD
END:VTIMEZONE
BEGIN:VEVENT
UID:62-40
DTSTAMP:20260420T171936Z
SUMMARY:Team Bath &amp;amp\; Millfield Level 2 Long Course Event (Long Distance
  Events on Friday
LOCATION:Millfield School Main Pool Keen\\'s Elm Lane  Street Somerset BA16
  0ST
ORGANIZER;CN=admin:MAILTO:mike.coles1956@gmail.com
DTSTART;TZID=Europe/London;VALUE=DATE:20251003
DTEND;TZID=Europe/London;VALUE=DATE:20251006
X-ALT-DESC;FMTTYPE=TEXT/HTML:Meet Pack: TBAS_Millfield_L2_October25
CATEGORIES:General
URL;VALUE=URI:https://somersetasa.co.uk/mc-events/team-bath-millfield-level
 -2-long-course-event-long-distance-events-on-friday/
METHOD:PUBLISH
END:VEVENT
END:VCALENDAR